BEGIN:VCALENDAR
VERSION:2.0
PRODID:-//InvisionCommunity Events 5.0.18//EN
METHOD:PUBLISH
CALSCALE:GREGORIAN
REFRESH-INTERVAL:PT15M
X-PUBLISHED-TTL:PT15M
X-WR-CALNAME:HG Cal
NAME:HG Cal
BEGIN:VTIMEZONE
TZID:Europe/London
TZURL:https://tzurl.org/zoneinfo/Europe/London
X-LIC-LOCATION:Europe/London
BEGIN:DAYLIGHT
TZOFFSETFROM:+0000
TZOFFSETTO:+0100
TZNAME:BST
DTSTART:20210328T020000Z
RRULE:FREQ=YEARLY;BYMONTH=3;BYDAY=-1SU
END:DAYLIGHT
BEGIN:STANDARD
TZOFFSETFROM:+0100
TZOFFSETTO:+0000
TZNAME:GMT
DTSTART:20211031T020000Z
RRULE:FREQ=YEARLY;BYMONTH=10;BYDAY=-1SU
END:STANDARD
END:VTIMEZONE
BEGIN:VTIMEZONE
TZID:Europe/London
TZURL:https://tzurl.org/zoneinfo/Europe/London
X-LIC-LOCATION:Europe/London
BEGIN:DAYLIGHT
TZOFFSETFROM:+0000
TZOFFSETTO:+0100
TZNAME:BST
DTSTART:20130331T020000Z
RRULE:FREQ=YEARLY;BYMONTH=3;BYDAY=-1SU
END:DAYLIGHT
BEGIN:STANDARD
TZOFFSETFROM:+0100
TZOFFSETTO:+0000
TZNAME:GMT
DTSTART:20131027T020000Z
RRULE:FREQ=YEARLY;BYMONTH=10;BYDAY=-1SU
END:STANDARD
END:VTIMEZONE
BEGIN:VTIMEZONE
TZID:Europe/London
TZURL:https://tzurl.org/zoneinfo/Europe/London
X-LIC-LOCATION:Europe/London
BEGIN:DAYLIGHT
TZOFFSETFROM:+0000
TZOFFSETTO:+0100
TZNAME:BST
DTSTART:20080330T020000Z
RRULE:FREQ=YEARLY;BYMONTH=3;BYDAY=-1SU
END:DAYLIGHT
BEGIN:STANDARD
TZOFFSETFROM:+0100
TZOFFSETTO:+0000
TZNAME:GMT
DTSTART:20081026T020000Z
RRULE:FREQ=YEARLY;BYMONTH=10;BYDAY=-1SU
END:STANDARD
END:VTIMEZONE
BEGIN:VTIMEZONE
TZID:Europe/London
TZURL:https://tzurl.org/zoneinfo/Europe/London
X-LIC-LOCATION:Europe/London
BEGIN:DAYLIGHT
TZOFFSETFROM:+0000
TZOFFSETTO:+0100
TZNAME:BST
DTSTART:20070325T020000Z
RRULE:FREQ=YEARLY;BYMONTH=3;BYDAY=-1SU
END:DAYLIGHT
BEGIN:STANDARD
TZOFFSETFROM:+0100
TZOFFSETTO:+0000
TZNAME:GMT
DTSTART:20071028T020000Z
RRULE:FREQ=YEARLY;BYMONTH=10;BYDAY=-1SU
END:STANDARD
END:VTIMEZONE
BEGIN:VEVENT
SUMMARY:Harpoon Classic Chat
DTSTAMP:20210225T043221Z
SEQUENCE:0
UID:9-1-95bb220892ef36ba27f67f5d2a21fe12@harpgamer.com
ORGANIZER;CN="TonyE":forum@harpgamer.com
DESCRIPTION:\n\n	Come chat with TonyE and whomever else appears.  Bring
	 your questions and interests.\n\n\n\n	https://us02web.zoom.us/j/898019696
	42?pwd=T3pGUGsvejVSenFnMWxjNW8zTm1Kdz09\n\n
DTSTART:20210416T180000Z
DTEND:20210416T200000Z
END:VEVENT
BEGIN:VEVENT
SUMMARY:Harpoon Classic Chat
DTSTAMP:20210225T043018Z
SEQUENCE:0
UID:8-1-95bb220892ef36ba27f67f5d2a21fe12@harpgamer.com
ORGANIZER;CN="TonyE":forum@harpgamer.com
DESCRIPTION:\n\n	Come chat with TonyE and whomever else appears.  Bring
	 your questions and interests.\n\n\n\n	https://us02web.zoom.us/j/892576713
	87?pwd=ajJ4NEtuSCsvNkNsQm1uWCttS1I5QT09\n\n
DTSTART:20210416T000000Z
DTEND:20210416T020000Z
END:VEVENT
BEGIN:VEVENT
SUMMARY:Harpoon Classic Chat
DTSTAMP:20210118T214904Z
SEQUENCE:0
UID:7-1-95bb220892ef36ba27f67f5d2a21fe12@harpgamer.com
ORGANIZER;CN="TonyE":forum@harpgamer.com
DESCRIPTION:\n\n	Come chat with TonyE and whomever else appears.  Bring
	 your questions and interests.\n\n\n\n	https://us02web.zoom.us/j/846401327
	84?pwd=MnpGQ0xBZlJPaENWMWxpdGlvcmRFZz09\n\n	 \n\n
DTSTART:20210122T190000Z
DTEND:20210122T210000Z
END:VEVENT
BEGIN:VEVENT
SUMMARY:Harpoon Classic Chat
DTSTAMP:20210118T214734Z
SEQUENCE:0
UID:6-1-95bb220892ef36ba27f67f5d2a21fe12@harpgamer.com
ORGANIZER;CN="TonyE":forum@harpgamer.com
DESCRIPTION:\n\n	Come join TonyE\, ask questions\, make comments\, chat 
	with your fellow Harpoon players.\n\n\n\n	 \n\n\n\n	https://us02web.zoom.
	us/j/81977039762?pwd=K0dBWnk3NEpWUy9nOU1yNnhsODJUZz09\n\n	 \n\n
DTSTART:20210121T011500Z
DTEND:20210121T033000Z
END:VEVENT
BEGIN:VEVENT
SUMMARY:Harpoon IRC Chat
DTSTAMP:20130126T163520Z
SEQUENCE:1
UID:5-1-95bb220892ef36ba27f67f5d2a21fe12@harpgamer.com
ORGANIZER;CN="TonyE":forum@harpgamer.com
DESCRIPTION:\n22:15 GMT\n \nJoin Brad\, myself\, and anyone else who sh
	ows up for a chat about Harpoon.  We will be available for at least an hou
	r to answer questions and chat about the games.\n \nIf you aren't familia
	r with IRC or haven't used it before\, give\n  http://harpgamer.com/harpfo
	rum/index.php?/files/file/281-hg-irc-win32-chat-client/\na try\, download 
	the file and run the executable within the zip file and you should be conn
	ected.\n \nYou can also try FreeNode's WebChat\, the channel is #harpgame
	r\nhttp://webchat.freenode.net/\n \nFor the die-hards:\n server: irc.free
	node.net\n channel: #harpgamer\n
DTSTART:20130207T221500Z
END:VEVENT
BEGIN:VEVENT
SUMMARY:HC IRC Chat\, Roundtable Discussion
DTSTAMP:20080515T162416Z
SEQUENCE:1
UID:4-1-95bb220892ef36ba27f67f5d2a21fe12@harpgamer.com
ORGANIZER;CN="TonyE":forum@harpgamer.com
DESCRIPTION:We will be discussing most anything about HC you want to dis
	cuss with certain focus areas:\n \n\n1. What you want to see done for the
	 next patch release.\n \n\n2. What things are a priority after the next p
	atch release.\n \n\n3. Everything else  \n
DTSTART:20080524T143000Z
END:VEVENT
BEGIN:VEVENT
SUMMARY:TacOps
DTSTAMP:20080422T204754Z
SEQUENCE:1
UID:3-1-95bb220892ef36ba27f67f5d2a21fe12@harpgamer.com
ORGANIZER;CN="TonyE":forum@harpgamer.com
DESCRIPTION:See http://harpgamer.com/harpforum/index.php?showtopic=2787 
	for details
DTSTART:20080425T190000Z
END:VEVENT
BEGIN:VEVENT
SUMMARY:H3 ANW released in 2006
DTSTAMP:20070613T213432Z
SEQUENCE:1
UID:2-1-95bb220892ef36ba27f67f5d2a21fe12@harpgamer.com
ORGANIZER;CN="TonyE":forum@harpgamer.com
DESCRIPTION:On this day in 2006 H3 ANW was released.
DTSTART:20070614T190000Z
RRULE:FREQ=yearly;INTERVAL=1;UNTIL=20120615T190000Z
END:VEVENT
END:VCALENDAR
